BEGIN:VCALENDAR
VERSION:2.0
PRODID:-//Gloucester Brewing Company - ECPv6.15.20//NONSGML v1.0//EN
CALSCALE:GREGORIAN
METHOD:PUBLISH
X-WR-CALNAME:Gloucester Brewing Company
X-ORIGINAL-URL:https://globrewco.com
X-WR-CALDESC:Events for Gloucester Brewing Company
REFRESH-INTERVAL;VALUE=DURATION:PT1H
X-Robots-Tag:noindex
X-PUBLISHED-TTL:PT1H
BEGIN:VTIMEZONE
TZID:America/New_York
BEGIN:DAYLIGHT
TZOFFSETFROM:-0500
TZOFFSETTO:-0400
TZNAME:EDT
DTSTART:20230312T070000
END:DAYLIGHT
BEGIN:STANDARD
TZOFFSETFROM:-0400
TZOFFSETTO:-0500
TZNAME:EST
DTSTART:20231105T060000
END:STANDARD
BEGIN:DAYLIGHT
TZOFFSETFROM:-0500
TZOFFSETTO:-0400
TZNAME:EDT
DTSTART:20240310T070000
END:DAYLIGHT
BEGIN:STANDARD
TZOFFSETFROM:-0400
TZOFFSETTO:-0500
TZNAME:EST
DTSTART:20241103T060000
END:STANDARD
BEGIN:DAYLIGHT
TZOFFSETFROM:-0500
TZOFFSETTO:-0400
TZNAME:EDT
DTSTART:20250309T070000
END:DAYLIGHT
BEGIN:STANDARD
TZOFFSETFROM:-0400
TZOFFSETTO:-0500
TZNAME:EST
DTSTART:20251102T060000
END:STANDARD
END:VTIMEZONE
BEGIN:VEVENT
DTSTART;TZID=America/New_York:20240929T130000
DTEND;TZID=America/New_York:20240929T200000
DTSTAMP:20260423T105959
CREATED:20240922T184759Z
LAST-MODIFIED:20240922T184759Z
UID:749-1727614800-1727640000@globrewco.com
SUMMARY:Oktoberfest 2024 at Gloucester Brewing Company
DESCRIPTION:Join us on Sunday\, September 29th\, 2024 for\nGloucester Brewing Company’s Annual Oktoberfest Celebration!\nFood Truck: Nomads Food Truck VA serving an Oktoberfest inspired menu \nLive Music starting at 3pm with Tidewater Tubas Oompah Oktoberfest Band \nFeatured Beer: Fairfield Fest\, a German-inspired Festbier
URL:https://globrewco.com/calendar/oktoberfest-2024-at-gloucester-brewing-company/
LOCATION:Gloucester Brewing Company\, 6778 Main Street\, Gloucester\, 23061\, United States
CATEGORIES:Food Truck,Live Music
ATTACH;FMTTYPE=image/jpeg:https://globrewco.com/wp-content/uploads/2024/09/octoberfest-1.jpg
END:VEVENT
BEGIN:VEVENT
DTSTART;TZID=America/New_York:20240923T190000
DTEND;TZID=America/New_York:20240923T210000
DTSTAMP:20260423T105959
CREATED:20240917T164004Z
LAST-MODIFIED:20240917T164004Z
UID:742-1727118000-1727125200@globrewco.com
SUMMARY:Trivia Fall Series
DESCRIPTION:Our Fall Trivia Series is here 🍂🎃🍁 \nJoin us and Information Intoxication every Monday at 7pm\, now through November 18th 📚🤔\nYou don’t have to commit to each Monday as there are prizes awarded each week; however\, if you do play the entire series\, you’ll be in the running for an even bigger prize 🥇🥈🥉 \nFOOD TRUCKS are:\nSept 16 — Island Time Delights 🍱\nSept 23 — Positive Pizza 🍕\nSept 30 — TBA\nOct 7 — Coastal Thirst 🌮🍔\nOct 14 — Positive Pizza 🍕\nOct 21 — Island Time Delights 🍱\nOct 28 — Positive Pizza 🍕\nNov 4 — Don Chido 🌮\nNov 11 — Positive Pizza 🍕\nNov 18 — Don Chido
URL:https://globrewco.com/calendar/trivia-fall-series/
LOCATION:Gloucester Brewing Company\, 6778 Main Street\, Gloucester\, 23061\, United States
CATEGORIES:Food Truck,Trivia
ATTACH;FMTTYPE=image/jpeg:https://globrewco.com/wp-content/uploads/2024/09/gbc-trivia-fall-2024.jpg
END:VEVENT
BEGIN:VEVENT
DTSTART;TZID=America/New_York:20240912T163000
DTEND;TZID=America/New_York:20240912T210000
DTSTAMP:20260423T105959
CREATED:20240820T183540Z
LAST-MODIFIED:20240820T183628Z
UID:729-1726158600-1726174800@globrewco.com
SUMMARY:Coastal Thirst
DESCRIPTION:Fresh Food & Beverage Inspired by Coastal Living
URL:https://globrewco.com/calendar/coastal-thirst/
CATEGORIES:Food,Food Truck
ATTACH;FMTTYPE=image/jpeg:https://globrewco.com/wp-content/uploads/2024/08/coastal-thirst-truck.jpg
END:VEVENT
BEGIN:VEVENT
DTSTART;TZID=America/New_York:20240905T163000
DTEND;TZID=America/New_York:20240905T210000
DTSTAMP:20260423T105959
CREATED:20240820T204350Z
LAST-MODIFIED:20240820T204350Z
UID:733-1725553800-1725570000@globrewco.com
SUMMARY:Nomads Food Truck
DESCRIPTION:Two locals went abroad for 7 years. Now we’re back and serving up delicious international cuisine.
URL:https://globrewco.com/calendar/nomads-food-truck/
CATEGORIES:Food,Food Truck
ATTACH;FMTTYPE=image/webp:https://globrewco.com/wp-content/uploads/2024/08/logo-nomads-food-truck.webp
END:VEVENT
END:VCALENDAR